BEGIN:VCALENDAR
VERSION:2.0
PRODID:-//eventon.com NONSGML v1.0//EN
CALSCALE:GREGORIAN
METHOD:PUBLISH
BEGIN:VEVENT
UID:69e74131313bc
DTSTAMP:20260421T091945Z
DTSTART:20240816T173000Z
DTEND:20240816T213000Z
LOCATION:
SUMMARY:Mousehole Film Club: About Time
DESCRIPTION:Our Mousehole Film Club movie for August is About Time\,  the 2
 013 romantic comedy written and directed by Love Actually&#8217;s Richard C
 urtis. Starring Domhnall Gleeson\,  Rachel McAdams and Bill Nighy\,  the fi
 lm is about a young man with the ability to time travel who tries to change
  his past in[..]\nhttps://www.solomonbrownehall.co.uk/events/mousehole-film
 -club-about-time/
URL:https://www.solomonbrownehall.co.uk/events/mousehole-film-club-about-time/
END:VEVENT
END:VCALENDAR