BEGIN:VCALENDAR
VERSION:2.0
PRODID:-//eventon.com NONSGML v1.0//EN
CALSCALE:GREGORIAN
METHOD:PUBLISH
BEGIN:VEVENT
UID:69e5e1ccd1d44
DTSTAMP:20260420T082028Z
DTSTART:20250731T173000Z
DTEND:20250731T183000Z
LOCATION:
SUMMARY:Weekly Dance Class with Caroline Schanche
DESCRIPTION:A fun and welcoming dance class for adults of all ages and abil
 ities. Designed to support health\,  happiness and wellbeing — no previou
 s experience needed. Running until September 📞 For more info\,  contact 
 Caroline on 07773 669667 or visit carolineschanchedance.co.uk\nhttps://www.
 solomonbrownehall.co.uk/events/weekly-dance-class-with-caroline-schanche/
URL:https://www.solomonbrownehall.co.uk/events/weekly-dance-class-with-caroline-schanche/
END:VEVENT
END:VCALENDAR