BEGIN:VCALENDAR
VERSION:2.0
PRODID:-//eventon.com NONSGML v1.0//EN
CALSCALE:GREGORIAN
METHOD:PUBLISH
BEGIN:VEVENT
UID:69e7406ba8206
DTSTAMP:20260421T091627Z
DTSTART:20251119T113000Z
DTEND:20251119T140000Z
LOCATION:
SUMMARY:Winter Wednesday Talk With Katherine Baxter
DESCRIPTION:Join us for the next in our Winter Wednesday Talk series\,  whe
 re we welcome Katherine Baxter\,  a talented illustrator known for her vibr
 ant and richly detailed maps. Katherine will be sharing the story of her ca
 reer\,  including her work illustrating maps for Royal events\,  along with
  insights into her creative[..]\nhttps://www.solomonbrownehall.co.uk/events
 /winter-wednesday-talk-with-katherine-baxter/
URL:https://www.solomonbrownehall.co.uk/events/winter-wednesday-talk-with-katherine-baxter/
END:VEVENT
END:VCALENDAR