BEGIN:VCALENDAR
VERSION:2.0
PRODID:-//eventon.com NONSGML v1.0//EN
CALSCALE:GREGORIAN
METHOD:PUBLISH
BEGIN:VEVENT
UID:69e7429baef4a
DTSTAMP:20260421T092547Z
DTSTART:20260225T113000Z
DTEND:20260225T140000Z
LOCATION:
SUMMARY:❄️ Wednesday Winter Talk - Martin Brockman
DESCRIPTION:Join us for another of our popular Winter Wednesday talks at th
 e Solomon Browne Hall. Martin Brockman will present an illustrated talk\,  
 sharing insights and stories from local history. Doors open at 11:30am\,  w
 ith tea and coffee available and homemade soup and rolls served from the ca
 fe. The talk begins[..]\nhttps://www.solomonbrownehall.co.uk/events/%e2%9d%
 84%ef%b8%8f-wednesday-winter-talk-martin-brockman/
URL:https://www.solomonbrownehall.co.uk/events/%e2%9d%84%ef%b8%8f-wednesday-winter-talk-martin-brockman/
END:VEVENT
END:VCALENDAR