BEGIN:VCALENDAR
VERSION:2.0
PRODID:-//eventon.com NONSGML v1.0//EN
CALSCALE:GREGORIAN
METHOD:PUBLISH
BEGIN:VEVENT
UID:69e62f0805341
DTSTAMP:20260420T135000Z
DTSTART:20260430T080000Z
DTEND:20260430T130000Z
LOCATION:
SUMMARY:Mousehole Food Fair 
DESCRIPTION:Join us at Solomon Browne Memorial Hall for our monthly Food Fa
 ir\,  celebrating the best of local and Cornish produce. Taking place on th
 e last Thursday of each month\,  the hall will be filled with a rotating mi
 x of local producers offering everything from fresh vegetables and flowers 
 to baked[..]\nhttps://www.solomonbrownehall.co.uk/events/mousehole-food-fai
 r/
URL:https://www.solomonbrownehall.co.uk/events/mousehole-food-fair/
END:VEVENT
END:VCALENDAR